BEGIN:VCALENDAR
VERSION:2.0
PRODID:spatie/icalendar-generator
DESCRIPTION:Events from SAMW
X-WR-CALDESC:Events from SAMW
REFRESH-INTERVAL;VALUE=DURATION:PT1440M
X-PUBLISHED-TTL:PT1440M
BEGIN:VTIMEZONE
TZID:Etc/GMT+0
BEGIN:STANDARD
DTSTART:20250813T183000Z
TZOFFSETFROM:+0000
TZOFFSETTO:+0000
END:STANDARD
END:VTIMEZONE
BEGIN:VTIMEZONE
TZID:UTC
BEGIN:STANDARD
DTSTART:20250724T112439Z
TZOFFSETFROM:+0000
TZOFFSETTO:+0000
END:STANDARD
END:VTIMEZONE
BEGIN:VEVENT
UID:1451-44
DTSTAMP:20260420T112439Z
SUMMARY:Open Mic @ Parish Center for the Arts\, Westford
LOCATION:Parish Center for the Arts 10 Lincoln St.  Westford MA
ORGANIZER;CN=Buffie Groves:MAILTO:ellenbgroves@comcast.net
RRULE:FREQ=MONTHLY;BYDAY=2SU;UNTIL=20260630T000000Z
DTSTART;TZID=Etc/GMT+0:20260510T183000
DTEND;TZID=Etc/GMT+0:20260510T193000
X-ALT-DESC;FMTTYPE=TEXT/HTML:John hosts an acoustic music (poets  are wel
 comed\, of course) open mike at the Parish Center for the Arts in Westford
  on the second and fourth Sundays of each month. Doors open at 6:00 .The m
 usic starts around 6:30\; We will have a featured artist at around 8:00 fo
 r whom  we will pass the hat&amp;hellip\;
CATEGORIES:Open Mic
URL;VALUE=URI:https://samw.wumb.org/mc-events/open-mic-parish-center-for-th
 e-arts-westford/?mc_id=1451
METHOD:PUBLISH
END:VEVENT
END:VCALENDAR