BEGIN:VCALENDAR
VERSION:2.0
PRODID:spatie/icalendar-generator
DESCRIPTION:Events from SAMW
X-WR-CALDESC:Events from SAMW
REFRESH-INTERVAL;VALUE=DURATION:PT1440M
X-PUBLISHED-TTL:PT1440M
BEGIN:VTIMEZONE
TZID:Etc/GMT+0
BEGIN:STANDARD
DTSTART:20250726T200000Z
TZOFFSETFROM:+0000
TZOFFSETTO:+0000
END:STANDARD
END:VTIMEZONE
BEGIN:VTIMEZONE
TZID:UTC
BEGIN:STANDARD
DTSTART:20250726T223636Z
TZOFFSETFROM:+0000
TZOFFSETTO:+0000
END:STANDARD
END:VTIMEZONE
BEGIN:VEVENT
UID:2776-14
DTSTAMP:20260422T223636Z
SUMMARY:Open Mic @ Hugh O'Neill's in Malden
LOCATION:Hugh O\\'Neill\\'s 45 Pleasant St  Malden MA 02148
ORGANIZER;CN=thallys vasconcelos:MAILTO:t.vasconcelos001@umb.edu
RRULE:FREQ=WEEKLY;UNTIL=20260809T000000Z
DTSTART;TZID=Etc/GMT+0:20260422T200000
DTEND;TZID=Etc/GMT+0:20260422T210000
X-ALT-DESC;FMTTYPE=TEXT/HTML:Open Mic's at Hugh O'Neill's  General Informa
 tion: Every Wednesday Sign-ups: 8:00pm Start: 8:30pm &amp;nbsp\; Hosted by Jef
 f Munro
CATEGORIES:Open Mic
URL;VALUE=URI:https://samw.wumb.org/mc-events/open-mic-hugh-oneills-in-mald
 en/?mc_id=2776
METHOD:PUBLISH
END:VEVENT
END:VCALENDAR