BEGIN:VCALENDAR
VERSION:2.0
PRODID:spatie/icalendar-generator
DESCRIPTION:Events from SAMW
X-WR-CALDESC:Events from SAMW
REFRESH-INTERVAL;VALUE=DURATION:PT1440M
X-PUBLISHED-TTL:PT1440M
BEGIN:VTIMEZONE
TZID:Etc/GMT+0
BEGIN:STANDARD
DTSTART:20250712T193000Z
TZOFFSETFROM:+0000
TZOFFSETTO:+0000
END:STANDARD
END:VTIMEZONE
BEGIN:VTIMEZONE
TZID:UTC
BEGIN:STANDARD
DTSTART:20250726T223937Z
TZOFFSETFROM:+0000
TZOFFSETTO:+0000
END:STANDARD
END:VTIMEZONE
BEGIN:VEVENT
UID:2681-3
DTSTAMP:20260422T223937Z
SUMMARY:Open Mic Night at VFW Post 7272 in Bellingham
LOCATION:VFW Post 7272 940 South Main Street  Bellingham MA 02019
ORGANIZER;CN=Buffie Groves:MAILTO:ellenbgroves@comcast.net
RRULE:FREQ=MONTHLY;BYDAY=2WE;UNTIL=20260809T000000Z
DTSTART;TZID=Etc/GMT+0:20260408T193000
DTEND;TZID=Etc/GMT+0:20260408T230000
X-ALT-DESC;FMTTYPE=TEXT/HTML:Open Mic Night at VFW Post 7272! General Infor
 mation:  Second and last Wednesday every month 7:30-11:00pm FREE &amp;nbsp\;
CATEGORIES:Open Mic
URL;VALUE=URI:https://samw.wumb.org/mc-events/open-mic-night-at-vfw-post-72
 72-in-bellingham/?mc_id=2681
METHOD:PUBLISH
END:VEVENT
END:VCALENDAR