BEGIN:VCALENDAR
VERSION:2.0
PRODID:spatie/icalendar-generator
DESCRIPTION:Events from SAMW
X-WR-CALDESC:Events from SAMW
REFRESH-INTERVAL;VALUE=DURATION:PT1440M
X-PUBLISHED-TTL:PT1440M
BEGIN:VTIMEZONE
TZID:Etc/GMT+0
BEGIN:STANDARD
DTSTART:20250726T190000Z
TZOFFSETFROM:+0000
TZOFFSETTO:+0000
END:STANDARD
END:VTIMEZONE
BEGIN:VTIMEZONE
TZID:UTC
BEGIN:STANDARD
DTSTART:20250726T223806Z
TZOFFSETFROM:+0000
TZOFFSETTO:+0000
END:STANDARD
END:VTIMEZONE
BEGIN:VEVENT
UID:2650-20
DTSTAMP:20260422T223806Z
SUMMARY:Open Mic @ Husky's Pub in Worcester
LOCATION:Husky\\'s Pub 413 Park Ave   Worcester MA 01610
ORGANIZER;CN=thallys vasconcelos:MAILTO:t.vasconcelos001@umb.edu
RRULE:FREQ=WEEKLY;UNTIL=20260809T000000Z
DTSTART;TZID=Etc/GMT+0:20260422T190000
DTEND;TZID=Etc/GMT+0:20260422T200000
X-ALT-DESC;FMTTYPE=TEXT/HTML:Open Mic at Husky's Pub ( The Dog bar) Every W
 ednesday night  Time: 7pm
CATEGORIES:Open Mic
URL;VALUE=URI:https://samw.wumb.org/mc-events/open-mic-huskys-pub-in-worces
 ter/?mc_id=2650
METHOD:PUBLISH
END:VEVENT
END:VCALENDAR