BEGIN:VCALENDAR
VERSION:2.0
PRODID:spatie/icalendar-generator
DESCRIPTION:Events from SAMW
X-WR-CALDESC:Events from SAMW
REFRESH-INTERVAL;VALUE=DURATION:PT1440M
X-PUBLISHED-TTL:PT1440M
BEGIN:VTIMEZONE
TZID:Etc/GMT+0
BEGIN:STANDARD
DTSTART:20250710T180000Z
TZOFFSETFROM:+0000
TZOFFSETTO:+0000
END:STANDARD
END:VTIMEZONE
BEGIN:VTIMEZONE
TZID:UTC
BEGIN:STANDARD
DTSTART:20250726T223807Z
TZOFFSETFROM:+0000
TZOFFSETTO:+0000
END:STANDARD
END:VTIMEZONE
BEGIN:VEVENT
UID:2544-15
DTSTAMP:20260422T223807Z
SUMMARY:Open Mic @ Souncheck Studios in Pembroke
LOCATION:Soundcheck Studios  150 Corporate Park Dr  Pembroke MA 02359
ORGANIZER;CN=thallys vasconcelos:MAILTO:t.vasconcelos001@umb.edu
RRULE:FREQ=WEEKLY;UNTIL=20260809T000000Z
DTSTART;TZID=Etc/GMT+0:20260406T180000
DTEND;TZID=Etc/GMT+0:20260406T230000
X-ALT-DESC;FMTTYPE=TEXT/HTML:Open Mic at Soundcheck Studios General Informa
 tion Every Monday 21+ Free admission Sign up : Slots 1-6- 6pm Slots 10-20 
 and overflow-7:30pm Music starts: 7pm Hard stop: 11:00pm &amp;nbsp\;
CATEGORIES:Open Mic
URL;VALUE=URI:https://samw.wumb.org/mc-events/open-mic-souncheck-studios-in
 -pembroke/?mc_id=2544
METHOD:PUBLISH
END:VEVENT
END:VCALENDAR