BEGIN:VCALENDAR
VERSION:2.0
PRODID:spatie/icalendar-generator
DESCRIPTION:Events from SAMW
X-WR-CALDESC:Events from SAMW
REFRESH-INTERVAL;VALUE=DURATION:PT1440M
X-PUBLISHED-TTL:PT1440M
BEGIN:VTIMEZONE
TZID:Etc/GMT+0
BEGIN:STANDARD
DTSTART:20250802T190000Z
TZOFFSETFROM:+0000
TZOFFSETTO:+0000
END:STANDARD
END:VTIMEZONE
BEGIN:VTIMEZONE
TZID:UTC
BEGIN:STANDARD
DTSTART:20250726T223945Z
TZOFFSETFROM:+0000
TZOFFSETTO:+0000
END:STANDARD
END:VTIMEZONE
BEGIN:VEVENT
UID:2442-12
DTSTAMP:20260422T223945Z
SUMMARY:Open Mic @ The Jungle Community Music Club in Somerville
LOCATION:The Jungle Music Club 6 Sanborn Ct  Somerville MA 02143
ORGANIZER;CN=thallys vasconcelos:MAILTO:t.vasconcelos001@umb.edu
RRULE:FREQ=WEEKLY;UNTIL=20260809T000000Z
DTSTART;TZID=Etc/GMT+0:20260429T190000
DTEND;TZID=Etc/GMT+0:20260429T220000
X-ALT-DESC;FMTTYPE=TEXT/HTML:The Jungle Community Music Club is having Open
  Mic's General Information: Every Wednesday Sign up time: 6pm End : 10:00p
 m Set time: 2 songs/ 5 mins Free admission 21+ &amp;nbsp\;
CATEGORIES:Open Mic
URL;VALUE=URI:https://samw.wumb.org/mc-events/open-mic-the-jungle-community
 -music-club-in-somerville/?mc_id=2442
METHOD:PUBLISH
END:VEVENT
END:VCALENDAR