BEGIN:VCALENDAR
VERSION:2.0
PRODID:spatie/icalendar-generator
DESCRIPTION:Events from SAMW
X-WR-CALDESC:Events from SAMW
REFRESH-INTERVAL;VALUE=DURATION:PT1440M
X-PUBLISHED-TTL:PT1440M
BEGIN:VTIMEZONE
TZID:Etc/GMT+0
BEGIN:STANDARD
DTSTART:20250719T203000Z
TZOFFSETFROM:+0000
TZOFFSETTO:+0000
END:STANDARD
END:VTIMEZONE
BEGIN:VTIMEZONE
TZID:UTC
BEGIN:STANDARD
DTSTART:20250726T223602Z
TZOFFSETFROM:+0000
TZOFFSETTO:+0000
END:STANDARD
END:VTIMEZONE
BEGIN:VEVENT
UID:2335-11
DTSTAMP:20260422T223602Z
SUMMARY:Open Mic @ Paddy Barry's in Quincy
LOCATION:Paddy Barry\\'s` 1574 Hancock st  Quincy MA 02169
ORGANIZER;CN=thallys vasconcelos:MAILTO:t.vasconcelos001@umb.edu
RRULE:FREQ=WEEKLY;UNTIL=20260809T000000Z
DTSTART;TZID=Etc/GMT+0:20260415T203000
DTEND;TZID=Etc/GMT+0:20260415T213000
X-ALT-DESC;FMTTYPE=TEXT/HTML: Open Mic at Paddy Barry's General Informatio
 n: Every Wednesday Time:8:30 Hosted by Jay Psaros Email or Call Gerry at: 
 Email- paddybarrys@comcast.net 617-233-3379 &amp;nbsp\;
CATEGORIES:Open Mic
URL;VALUE=URI:https://samw.wumb.org/mc-events/open-mic-paddy-barrys-in-quin
 cy/?mc_id=2335
METHOD:PUBLISH
END:VEVENT
END:VCALENDAR