BEGIN:VCALENDAR
VERSION:2.0
PRODID:spatie/icalendar-generator
DESCRIPTION:Events from SAMW
X-WR-CALDESC:Events from SAMW
REFRESH-INTERVAL;VALUE=DURATION:PT1440M
X-PUBLISHED-TTL:PT1440M
BEGIN:VTIMEZONE
TZID:Etc/GMT+0
BEGIN:STANDARD
DTSTART:20250712T190000Z
TZOFFSETFROM:+0000
TZOFFSETTO:+0000
END:STANDARD
END:VTIMEZONE
BEGIN:VTIMEZONE
TZID:UTC
BEGIN:STANDARD
DTSTART:20250726T223637Z
TZOFFSETFROM:+0000
TZOFFSETTO:+0000
END:STANDARD
END:VTIMEZONE
BEGIN:VEVENT
UID:2229-10
DTSTAMP:20260422T223637Z
SUMMARY:Open Mic @ Lockheart Restaurant in Wellesley
LOCATION:Lockheart Restaurant  102 Central St  Wellesley MA 02482
ORGANIZER;CN=thallys vasconcelos:MAILTO:t.vasconcelos001@umb.edu
RRULE:FREQ=WEEKLY;UNTIL=20260809T000000Z
DTSTART;TZID=Etc/GMT+0:20260408T190000
DTEND;TZID=Etc/GMT+0:20260408T220000
X-ALT-DESC;FMTTYPE=TEXT/HTML:Open Mic Lockheart Restaurant  General Inform
 ation: Every Wednesday of the month Sign up at the door Start:7:00pm End:1
 0:00pm Set: 2 song per performer Microphones/PA system/ mixer provided &amp;nb
 sp\;
CATEGORIES:Open Mic
URL;VALUE=URI:https://samw.wumb.org/mc-events/open-mic-lockheart-restaurant
 -in-wellesley/?mc_id=2229
METHOD:PUBLISH
END:VEVENT
END:VCALENDAR