BEGIN:VCALENDAR
VERSION:2.0
PRODID:spatie/icalendar-generator
DESCRIPTION:Events from SAMW
X-WR-CALDESC:Events from SAMW
REFRESH-INTERVAL;VALUE=DURATION:PT1440M
X-PUBLISHED-TTL:PT1440M
BEGIN:VTIMEZONE
TZID:Etc/GMT+0
BEGIN:STANDARD
DTSTART:20250719T190000Z
TZOFFSETFROM:+0000
TZOFFSETTO:+0000
END:STANDARD
END:VTIMEZONE
BEGIN:VTIMEZONE
TZID:UTC
BEGIN:STANDARD
DTSTART:20250726T223600Z
TZOFFSETFROM:+0000
TZOFFSETTO:+0000
END:STANDARD
END:VTIMEZONE
BEGIN:VEVENT
UID:2125-9
DTSTAMP:20260422T223600Z
SUMMARY:Open Mic @ Red Rose Irish Pub in Weymouth
LOCATION:Red Rose Irish Pub 800 Broad St  Weymouth MA 02189
ORGANIZER;CN=thallys vasconcelos:MAILTO:t.vasconcelos001@umb.edu
RRULE:FREQ=WEEKLY;UNTIL=20260809T000000Z
DTSTART;TZID=Etc/GMT+0:20260415T190000
DTEND;TZID=Etc/GMT+0:20260415T230000
X-ALT-DESC;FMTTYPE=TEXT/HTML:Open Mic at Red Rose Irish Pub General Informa
 tion: Every Wednesday Sign-up starts at 7:30 Show starts at 8:00pm Ends: 1
 0:30pm Set time:10- 20 mins
CATEGORIES:Open Mic
URL;VALUE=URI:https://samw.wumb.org/mc-events/open-mic-red-rose-irish-pub-i
 n-weymouth/?mc_id=2125
METHOD:PUBLISH
END:VEVENT
END:VCALENDAR