BEGIN:VCALENDAR
VERSION:2.0
PRODID:spatie/icalendar-generator
DESCRIPTION:Events from SAMW
X-WR-CALDESC:Events from SAMW
REFRESH-INTERVAL;VALUE=DURATION:PT1440M
X-PUBLISHED-TTL:PT1440M
BEGIN:VTIMEZONE
TZID:Etc/GMT+0
BEGIN:STANDARD
DTSTART:20250713T190000Z
TZOFFSETFROM:+0000
TZOFFSETTO:+0000
END:STANDARD
END:VTIMEZONE
BEGIN:VTIMEZONE
TZID:UTC
BEGIN:STANDARD
DTSTART:20250726T223600Z
TZOFFSETFROM:+0000
TZOFFSETTO:+0000
END:STANDARD
END:VTIMEZONE
BEGIN:VEVENT
UID:2019-8
DTSTAMP:20260422T223600Z
SUMMARY:Open Mic @ WARD 4 in Newton
LOCATION:Ward 4 277 Auburn St.  Newton MA 02466
ORGANIZER;CN=thallys vasconcelos:MAILTO:t.vasconcelos001@umb.edu
RRULE:FREQ=WEEKLY;UNTIL=20260809T000000Z
DTSTART;TZID=Etc/GMT+0:20260409T190000
DTEND;TZID=Etc/GMT+0:20260409T220000
X-ALT-DESC;FMTTYPE=TEXT/HTML:Open Mic at WARD 4 General Information: Every 
 Thursday Start time: 7:00 PM End time: 9:00pm Sign-up time: 6:30pm &amp;nbsp\;
  &amp;nbsp\;
CATEGORIES:Open Mic
URL;VALUE=URI:https://samw.wumb.org/mc-events/open-mic-ward-4-in-newton/?mc
 _id=2019
METHOD:PUBLISH
END:VEVENT
END:VCALENDAR