BEGIN:VCALENDAR
VERSION:2.0
PRODID:spatie/icalendar-generator
DESCRIPTION:Events from SAMW
X-WR-CALDESC:Events from SAMW
REFRESH-INTERVAL;VALUE=DURATION:PT1440M
X-PUBLISHED-TTL:PT1440M
BEGIN:VTIMEZONE
TZID:Etc/GMT+0
BEGIN:STANDARD
DTSTART:20250731T193000Z
TZOFFSETFROM:+0000
TZOFFSETTO:+0000
END:STANDARD
END:VTIMEZONE
BEGIN:VTIMEZONE
TZID:UTC
BEGIN:STANDARD
DTSTART:20250726T223842Z
TZOFFSETFROM:+0000
TZOFFSETTO:+0000
END:STANDARD
END:VTIMEZONE
BEGIN:VEVENT
UID:1812-7
DTSTAMP:20260422T223842Z
SUMMARY:Open Mic @ The Indo in Beverly
LOCATION:The Indo Pub 298 Cabot St  Beverly MA 01915
ORGANIZER;CN=thallys vasconcelos:MAILTO:t.vasconcelos001@umb.edu
RRULE:FREQ=WEEKLY;UNTIL=20260809T000000Z
DTSTART;TZID=Etc/GMT+0:20260427T193000
DTEND;TZID=Etc/GMT+0:20260427T230000
X-ALT-DESC;FMTTYPE=TEXT/HTML:Open Mic at The Indo  General Information: Ev
 ery Monday Sign up starts at 8:00pm Ends at 11:00pm Host: Bob Kramer &amp;nbsp
 \;
CATEGORIES:Open Mic
URL;VALUE=URI:https://samw.wumb.org/mc-events/open-mic-the-indo-in-beverly/
 ?mc_id=1812
METHOD:PUBLISH
END:VEVENT
END:VCALENDAR