BEGIN:VCALENDAR
VERSION:2.0
PRODID:spatie/icalendar-generator
DESCRIPTION:Events from SAMW
X-WR-CALDESC:Events from SAMW
REFRESH-INTERVAL;VALUE=DURATION:PT1440M
X-PUBLISHED-TTL:PT1440M
BEGIN:VTIMEZONE
TZID:Etc/GMT+0
BEGIN:STANDARD
DTSTART:20250717T190000Z
TZOFFSETFROM:+0000
TZOFFSETTO:+0000
END:STANDARD
END:VTIMEZONE
BEGIN:VTIMEZONE
TZID:UTC
BEGIN:STANDARD
DTSTART:20250726T223938Z
TZOFFSETFROM:+0000
TZOFFSETTO:+0000
END:STANDARD
END:VTIMEZONE
BEGIN:VEVENT
UID:1705-5
DTSTAMP:20260422T223938Z
SUMMARY:Open Mic @ Porter Belly's Pub in Brighton
LOCATION:Porter Belly\\'s Pub 338 Washington St.  Brighton MA 02135
ORGANIZER;CN=thallys vasconcelos:MAILTO:t.vasconcelos001@umb.edu
RRULE:FREQ=WEEKLY;UNTIL=20260809T000000Z
DTSTART;TZID=Etc/GMT+0:20260413T190000
DTEND;TZID=Etc/GMT+0:20260414T000000
X-ALT-DESC;FMTTYPE=TEXT/HTML:Open Mic at Porter Belly's Pub! General Inform
 ation: Every Monday Sign-up starts at 7:30pm Open Mic starts at 8:00pm End
 s at 12:00am 2 songs per performance &amp;nbsp\;
CATEGORIES:Open Mic
URL;VALUE=URI:https://samw.wumb.org/mc-events/open-mic-porter-bellys-pub-in
 -brighton/?mc_id=1705
METHOD:PUBLISH
END:VEVENT
END:VCALENDAR