BEGIN:VCALENDAR
VERSION:2.0
PRODID:spatie/icalendar-generator
DESCRIPTION:Events from SAMW
X-WR-CALDESC:Events from SAMW
REFRESH-INTERVAL;VALUE=DURATION:PT1440M
X-PUBLISHED-TTL:PT1440M
BEGIN:VTIMEZONE
TZID:Etc/GMT+0
BEGIN:STANDARD
DTSTART:20250803T190000Z
TZOFFSETFROM:+0000
TZOFFSETTO:+0000
END:STANDARD
END:VTIMEZONE
BEGIN:VTIMEZONE
TZID:UTC
BEGIN:STANDARD
DTSTART:20250726T223603Z
TZOFFSETFROM:+0000
TZOFFSETTO:+0000
END:STANDARD
END:VTIMEZONE
BEGIN:VEVENT
UID:1602-4
DTSTAMP:20260422T223603Z
SUMMARY:Open Mic @ The Bebop in Boston
LOCATION:The BeBop 1116 Boylston St.  Boston MA 02215
ORGANIZER;CN=thallys vasconcelos:MAILTO:t.vasconcelos001@umb.edu
RRULE:FREQ=WEEKLY;UNTIL=20260809T000000Z
DTSTART;TZID=Etc/GMT+0:20260430T190000
DTEND;TZID=Etc/GMT+0:20260430T220000
X-ALT-DESC;FMTTYPE=TEXT/HTML:Open Mic Night at The Bebop! General Informati
 on: Every Thursday 7:00-10:00pm Sign Up sheet open up every Monday at 11am
 / online Show up no more than 45 mins before performance Performance time:
  15 mins/ 2 songs All performers in the open mic could be considered for f
 uture gigs at The Bebop and The Burren in&amp;hellip\;
CATEGORIES:Open Mic
URL;VALUE=URI:https://samw.wumb.org/mc-events/open-mic-the-bebop-in-boston/
 ?mc_id=1602
METHOD:PUBLISH
END:VEVENT
END:VCALENDAR