BEGIN:VCALENDAR
VERSION:2.0
PRODID:spatie/icalendar-generator
DESCRIPTION:Events from SAMW
X-WR-CALDESC:Events from SAMW
REFRESH-INTERVAL;VALUE=DURATION:PT1440M
X-PUBLISHED-TTL:PT1440M
BEGIN:VTIMEZONE
TZID:Etc/GMT+0
BEGIN:STANDARD
DTSTART:20250712T200000Z
TZOFFSETFROM:+0000
TZOFFSETTO:+0000
END:STANDARD
END:VTIMEZONE
BEGIN:VTIMEZONE
TZID:UTC
BEGIN:STANDARD
DTSTART:20250726T223841Z
TZOFFSETFROM:+0000
TZOFFSETTO:+0000
END:STANDARD
END:VTIMEZONE
BEGIN:VEVENT
UID:1493-26
DTSTAMP:20260422T223841Z
SUMMARY:Common Sense Songs radio show with Graham and Barbara Dean
LOCATION:
ORGANIZER;CN=thallys vasconcelos:MAILTO:t.vasconcelos001@umb.edu
RRULE:FREQ=WEEKLY;UNTIL=20260809T000000Z
DTSTART;TZID=Etc/GMT+0:20260408T200000
DTEND;TZID=Etc/GMT+0:20260408T210000
X-ALT-DESC;FMTTYPE=TEXT/HTML:Common Sense Songs radio show - Graham and Bar
 bara Dean Time: 8:00 PM &amp;nbsp\;
CATEGORIES:Online
URL;VALUE=URI:https://samw.wumb.org/mc-events/common-sense-songs-radio-show
 -with-graham-and-barbara-dean/?mc_id=1493
METHOD:PUBLISH
END:VEVENT
END:VCALENDAR