BEGIN:VCALENDAR
VERSION:2.0
PRODID:spatie/icalendar-generator
DESCRIPTION:Events from SAMW
X-WR-CALDESC:Events from SAMW
REFRESH-INTERVAL;VALUE=DURATION:PT1440M
X-PUBLISHED-TTL:PT1440M
BEGIN:VTIMEZONE
TZID:Etc/GMT+0
BEGIN:STANDARD
DTSTART:20240809T190000Z
TZOFFSETFROM:+0000
TZOFFSETTO:+0000
END:STANDARD
END:VTIMEZONE
BEGIN:VTIMEZONE
TZID:UTC
BEGIN:STANDARD
DTSTART:20250724T095220Z
TZOFFSETFROM:+0000
TZOFFSETTO:+0000
END:STANDARD
END:VTIMEZONE
BEGIN:VEVENT
UID:1167-24
DTSTAMP:20260420T095220Z
SUMMARY:Intermediate Jam Session w/ Pam Weeks &amp;amp\; Bill Olson
LOCATION:
ORGANIZER;CN=thallys vasconcelos:MAILTO:t.vasconcelos001@umb.edu
RRULE:FREQ=WEEKLY;UNTIL=20250803T000000Z
DTSTART;TZID=Etc/GMT+0:20250506T190000
DTEND;TZID=Etc/GMT+0:20250506T200000
X-ALT-DESC;FMTTYPE=TEXT/HTML:Intermediate Jam Session w/ Pam Weeks &amp;amp\; B
 ill Olson - Pam Weeks Time: 7:00 PM
CATEGORIES:Online
URL;VALUE=URI:https://samw.wumb.org/mc-events/intermediate-jam-session-w-pa
 m-weeks-bill-olson/?mc_id=1167
METHOD:PUBLISH
END:VEVENT
END:VCALENDAR